BEGIN:VCALENDAR
VERSION:2.0
PRODID:-//The International Society for Vaccines - ECPv6.15.20//NONSGML v1.0//EN
CALSCALE:GREGORIAN
METHOD:PUBLISH
X-ORIGINAL-URL:https://isv-online.org
X-WR-CALDESC:Events for The International Society for Vaccines
REFRESH-INTERVAL;VALUE=DURATION:PT1H
X-Robots-Tag:noindex
X-PUBLISHED-TTL:PT1H
BEGIN:VTIMEZONE
TZID:UTC
BEGIN:STANDARD
TZOFFSETFROM:+0000
TZOFFSETTO:+0000
TZNAME:UTC
DTSTART:20240101T000000
END:STANDARD
END:VTIMEZONE
BEGIN:VEVENT
DTSTART;TZID=UTC:20251107T095120
DTEND;TZID=UTC:20251107T095120
DTSTAMP:20260421T085906
CREATED:20251107T095120Z
LAST-MODIFIED:20251107T095120Z
UID:6386-1762509080-1762509080@isv-online.org
SUMMARY:Visit ISV's YouTube Channel
DESCRIPTION:
URL:https://isv-online.org/event/visit-isvs-youtube-channel/
ATTACH;FMTTYPE=image/jpeg:https://isv-online.org/wp-content/uploads/2025/11/ISV-YouTube-Channel-Presentation.jpg
END:VEVENT
END:VCALENDAR